BEGIN:VCALENDAR
VERSION:2.0
PRODID:GIGPRESS 2.0 WORDPRESS PLUGIN
CALSCALE:GREGORIAN
X-WR-TIMEZONE:Etc/GMT
METHOD:PUBLISH
BEGIN:VTIMEZONE
TZID:GMT
BEGIN:STANDARD
DTSTART:20071028T010000
TZOFFSETTO:+0000
TZOFFSETFROM:+0000
END:STANDARD
END:VTIMEZONE
BEGIN:VEVENT
SUMMARY:Bird Box à Jazz en Ouche
DESCRIPTION:All Ages
LOCATION:Jazz en Ouche\, L'Aigle\, FR
UID:20260819-1965-julie@invivo.agency
URL:http://invivo.agency
DTSTART;VALUE=DATE;TZID=GMT:20260819
DTEND;VALUE=DATE;TZID=GMT:20260819
DTSTAMP:20260419T022604Z
END:VEVENT
END:VCALENDAR