BEGIN:VCALENDAR
VERSION:2.0
PRODID:GIGPRESS 2.0 WORDPRESS PLUGIN
CALSCALE:GREGORIAN
X-WR-TIMEZONE:Etc/GMT
METHOD:PUBLISH
BEGIN:VTIMEZONE
TZID:GMT
BEGIN:STANDARD
DTSTART:20071028T010000
TZOFFSETTO:+0000
TZOFFSETFROM:+0000
END:STANDARD
END:VTIMEZONE
BEGIN:VEVENT
SUMMARY:Aaron Parks Little Big III à Théâtre de Caen
DESCRIPTION:All Ages
LOCATION:Théâtre de Caen\, 135 BD DU MARECHAL LECLERC\, 14000 Caen\, Caen\, FR
UID:20270410-1964-julie@invivo.agency
URL:http://invivo.agency
DTSTART;VALUE=DATE;TZID=GMT:20270410
DTEND;VALUE=DATE;TZID=GMT:20270410
DTSTAMP:20260419T010908Z
END:VEVENT
END:VCALENDAR