BEGIN:VCALENDAR
VERSION:2.0
PRODID:GIGPRESS 2.0 WORDPRESS PLUGIN
CALSCALE:GREGORIAN
X-WR-TIMEZONE:Etc/GMT
METHOD:PUBLISH
BEGIN:VTIMEZONE
TZID:GMT
BEGIN:STANDARD
DTSTART:20071028T010000
TZOFFSETTO:+0000
TZOFFSETFROM:+0000
END:STANDARD
END:VTIMEZONE
BEGIN:VEVENT
SUMMARY:Katarina Pejak à CosmoJazz
DESCRIPTION:All Ages
LOCATION:CosmoJazz\, Chamonix\, FR
UID:20260802-1960-julie@invivo.agency
URL:http://invivo.agency
DTSTART;VALUE=DATE;TZID=GMT:20260802
DTEND;VALUE=DATE;TZID=GMT:20260802
DTSTAMP:20260419T010619Z
END:VEVENT
END:VCALENDAR