BEGIN:VCALENDAR
VERSION:2.0
PRODID:GIGPRESS 2.0 WORDPRESS PLUGIN
CALSCALE:GREGORIAN
X-WR-TIMEZONE:Etc/GMT
METHOD:PUBLISH
BEGIN:VTIMEZONE
TZID:GMT
BEGIN:STANDARD
DTSTART:20071028T010000
TZOFFSETTO:+0000
TZOFFSETFROM:+0000
END:STANDARD
END:VTIMEZONE
BEGIN:VEVENT
SUMMARY:Bird Box à l'Emeraude
DESCRIPTION:All Ages
LOCATION:l'Emeraude\, Locoal-Mendon\, FR
UID:20260425-1954-julie@invivo.agency
URL:http://invivo.agency
DTSTART;VALUE=DATE;TZID=GMT:20260425
DTEND;VALUE=DATE;TZID=GMT:20260425
DTSTAMP:20260419T010734Z
END:VEVENT
END:VCALENDAR