BEGIN:VCALENDAR
VERSION:2.0
PRODID:GIGPRESS 2.0 WORDPRESS PLUGIN
CALSCALE:GREGORIAN
X-WR-TIMEZONE:Etc/GMT
METHOD:PUBLISH
BEGIN:VTIMEZONE
TZID:GMT
BEGIN:STANDARD
DTSTART:20071028T010000
TZOFFSETTO:+0000
TZOFFSETFROM:+0000
END:STANDARD
END:VTIMEZONE
BEGIN:VEVENT
SUMMARY:Henri Texier à Dias do Jazz
DESCRIPTION:All Ages
LOCATION:Dias do Jazz\, Caldas da Rainha\, PT
UID:20261106-1939-julie@invivo.agency
URL:http://invivo.agency
DTSTART;VALUE=DATE;TZID=GMT:20261106
DTEND;VALUE=DATE;TZID=GMT:20261106
DTSTAMP:20260419T010740Z
END:VEVENT
END:VCALENDAR