BEGIN:VCALENDAR
VERSION:2.0
PRODID:GIGPRESS 2.0 WORDPRESS PLUGIN
CALSCALE:GREGORIAN
X-WR-TIMEZONE:Etc/GMT
METHOD:PUBLISH
BEGIN:VTIMEZONE
TZID:GMT
BEGIN:STANDARD
DTSTART:20071028T010000
TZOFFSETTO:+0000
TZOFFSETFROM:+0000
END:STANDARD
END:VTIMEZONE
BEGIN:VEVENT
SUMMARY:Aaron Parks Little Big III à Jazz dans le Bocage
DESCRIPTION:All Ages
LOCATION:Jazz dans le Bocage\, Theil\, FR
UID:20260516-1922-julie@invivo.agency
URL:http://invivo.agency
DTSTART;VALUE=DATE;TZID=GMT:20260516
DTEND;VALUE=DATE;TZID=GMT:20260516
DTSTAMP:20260419T022859Z
END:VEVENT
END:VCALENDAR